BEGIN:VCALENDAR
VERSION:2.0
PRODID:-//Canadian Evaluation Society - Ontario Chapter - ECPv6.15.15//NONSGML v1.0//EN
CALSCALE:GREGORIAN
METHOD:PUBLISH
X-ORIGINAL-URL:https://evaluationontario.ca
X-WR-CALDESC:Events for Canadian Evaluation Society - Ontario Chapter
REFRESH-INTERVAL;VALUE=DURATION:PT1H
X-Robots-Tag:noindex
X-PUBLISHED-TTL:PT1H
BEGIN:VTIMEZONE
TZID:UTC
BEGIN:STANDARD
TZOFFSETFROM:+0000
TZOFFSETTO:+0000
TZNAME:UTC
DTSTART:20230101T000000
END:STANDARD
END:VTIMEZONE
BEGIN:VEVENT
DTSTART;TZID=UTC:20240619T110000
DTEND;TZID=UTC:20240619T130000
DTSTAMP:20260423T174603
CREATED:20240618T144557Z
LAST-MODIFIED:20240618T152904Z
UID:6919-1718794800-1718802000@evaluationontario.ca
SUMMARY:2024 CES Ontario Annual General Meeting and Learning Event
DESCRIPTION:CES – Ontario is pleased to announce that the chapter’s Annual General Meeting will be held online on June 19\, 2024 from 11:00 AM to 1:00 PM. \nWhy Attend the AGM? \nThe AGM is a great opportunity to: \n– Learn more about recent chapter activities; \n– Elect new board members and approve any bylaw changes; \n– Participate in the annual Learning Event. \nEvent Agenda: \n\n11:00 AM – 12:00 PM: AGM presentation\, including progress on our strategic goals and upcoming chapter events\n\n\n12:00 PM – 1:00PM: Learning Event: Communities of Practice and Evaluation\n\n\nWe will distribute the Annual General Meeting package\, including a full agenda\, Annual Report\, and audited financial statements\, to all CES Ontario members and event attendees prior to the event. \nLearning Event: Communities of Practice and Evaluation \nJoin us at our fireside chat on communities of practice and evaluation! We have invited five organizations to speak about how they manage evaluation communities of practice and share information regarding different CoPs. This engaging panel aims to facilitate a discussion on lessons learned\, impact and operations of CoPs and to enable CES Ontario members to get a broader understanding of the opportunities to connect\, network and engage with a wide range of evaluators and CoPs in Ontario and beyond. \nParticipating Communities of Practice \n• The Joint Committee on Standards for Educational Evaluation (JCSEE)\n• Evaluation Café Ontario (EvalCafé)\n• Independent Consulting Community of Interest (CES ICCI)\n• Ontario Public Service Performance Measurement and Evaluation CoP (PM&E OPS)\n• Ontario Public Health Evaluation Network (OPHEN)
URL:https://evaluationontario.ca/event/2024-ces-ontario-annual-general-meeting-and-learning-event/
CATEGORIES:Annual General Meetings,Membership
ORGANIZER;CN="CES Ontario":MAILTO:admin@evaluationontario.ca
END:VEVENT
END:VCALENDAR