BEGIN:VCALENDAR
VERSION:2.0
PRODID:-//Canadian Evaluation Society - Ontario Chapter - ECPv6.15.15//NONSGML v1.0//EN
CALSCALE:GREGORIAN
METHOD:PUBLISH
X-ORIGINAL-URL:https://evaluationontario.ca
X-WR-CALDESC:Events for Canadian Evaluation Society - Ontario Chapter
REFRESH-INTERVAL;VALUE=DURATION:PT1H
X-Robots-Tag:noindex
X-PUBLISHED-TTL:PT1H
BEGIN:VTIMEZONE
TZID:UTC
BEGIN:STANDARD
TZOFFSETFROM:+0000
TZOFFSETTO:+0000
TZNAME:UTC
DTSTART:20230101T000000
END:STANDARD
END:VTIMEZONE
BEGIN:VEVENT
DTSTART;TZID=UTC:20240530T130000
DTEND;TZID=UTC:20240530T150000
DTSTAMP:20260423T143610
CREATED:20240424T184436Z
LAST-MODIFIED:20240424T184456Z
UID:6866-1717074000-1717081200@evaluationontario.ca
SUMMARY:The Art and Science of Producing Effective Infographics
DESCRIPTION:About This Workshop: \nData visualization as a hot topic in the evaluation world\, especially in knowledge transfer activities. The interactive and multi-modal workshop will focus on a specific type of data visualization\, namely infographics – artistic or graphic presentation of data to communicate insights. We will briefly orient infographics in the realm of data visualization\, illustrating the different types of infographics. Then our focus will shift to the science of why we use infographics in communicating to our various audiences (clients and funders). We then venture into design theory\, calling on the works of data visualization experts Bernard Marr\, Stephanie Evergreen\, Garr Reynolds and Edward Tufte. The bulk of the time will be aimed at specific design elements of graphics\, colour\, and font\, which provide the visual cues to our most important element: the data. We will then put these elements together with examples\, and then look at resources and tools for infographic production. The session will conclude with a short question period. \nLearning objectives: \nBy the end of the Workshop\, the participant will be able to: \n\nCompare the different types of infographics and situate them in the greater web of data visualization\nUnderstand the basic tenets of design theory and how the brain process and information\nIdentify and appraise the design elements of effective infographics\nLocate and use various resources and tools for effective infographic production\n\nCompetencies for Canadian Evaluation Practice: \nTechnical Practice \n\n\n\n2.8 Identify data sources\n2.13 Assesses trustworthiness of data\n2.16 Reports evaluation findings and results\n\n\n\nSituational Practice \n\n\n\n3.5 Serves the information needs of intended users\n\n\n\nManagement Practice \n\n\n\n4.6 Reports on progress and results\n\n\n\nInterpersonal Practice \n\n\n\n5.1 Uses written communication skills and technologies\n\n\n\nEvent location:\nOnline through Zoom\n\nCost:\n$189 for CES Members\n$219 for General Admission.\nPrice does not include HST.\n\nKey Learnings:\nThis workshop aims to strengthen capacities in line with the following Competencies for Canadian Evaluation Practice:\n\nTechnical practice \n\nClarifies the program theory\nIdentifies data requirements\, sources\, sampling and data collection tool\n\nInterpersonal practice \n\nUses communication strategies appropriate to the cultural\, linguistic\, social and political context\nDemonstrates effective\, appropriate and respectful verbal and non-verbal communication skills\n\nAbout the Facilitator:\nA. Sidiq (Sid) Ali\, is an expert in education programs\, focusing on assessment program development\, management and evaluation. He has over 20 years’ experience as an evaluator. Sid combines his skills in psychometrics and evaluation to foster his professional interests in program evaluation capacity-building in the private sector\, program development in licensure and certification contexts\, as well as in effective data analytics and visualization. Since founding his consulting practice (www.rae-consult.com)\, he has worked with profession regulators and governing bodies in accounting and financial management\, healthcare\, law and international sanctions\, as well as with the learning and development units of two of the big five Canadian banks. He began his better data visualization journey in 2008\, focusing on effective presentation strategies for PowerPoint. He now blogs and speaks about data visualization\, and has been an invited guest blogger on Stephanie Evergreen’s effective data visualization blog. He has produced infographics for official CES communications\, has conducted a CES national webinar on infographics and has facilitated workshops on infographics for CES-ON and CES-MB. Sid is a Credentialed Evaluator\, earned his M.Ed. and Ph.D. from the University of Toronto in Educational Measurement and Evaluation\, and was a two-term Director for CES-ON.
URL:https://evaluationontario.ca/event/the-art-and-science-of-producing-effective-infographics-9/
LOCATION:Online
CATEGORIES:Advanced/Intermediate,Professional Development,Student & New Practitioner
ORGANIZER;CN="CES Ontario":MAILTO:admin@evaluationontario.ca
END:VEVENT
END:VCALENDAR